BEGIN:VCALENDAR
VERSION:2.0
PRODID:spatie/icalendar-generator
DESCRIPTION:ポジティブライフ研究所のイベント
X-WR-CALDESC:ポジティブライフ研究所のイベント
REFRESH-INTERVAL;VALUE=DURATION:PT1440M
X-PUBLISHED-TTL:PT1440M
BEGIN:VTIMEZONE
TZID:Asia/Tokyo
BEGIN:STANDARD
DTSTART:20220830T130000Z
TZOFFSETFROM:+0900
TZOFFSETTO:+0900
END:STANDARD
END:VTIMEZONE
BEGIN:VTIMEZONE
TZID:UTC
BEGIN:STANDARD
DTSTART:20250724T180320Z
TZOFFSETFROM:+0000
TZOFFSETTO:+0000
END:STANDARD
END:VTIMEZONE
BEGIN:VEVENT
UID:10-10
DTSTAMP:20260420T180320Z
SUMMARY:満員）募集終了「心を強くするための脳の習慣」 
 - スペシャルトークセッション - 13:00-14:30
LOCATION:
ORGANIZER;CN=KANEKO MASAMI:MAILTO:scallop0801kao@yahoo.co.jp
DTSTART;TZID=Asia/Tokyo:20230527T130000
DTEND;TZID=Asia/Tokyo:20230527T143000
X-ALT-DESC;FMTTYPE=TEXT/HTML:↓詳細・お申込みはこちら 定員に
 なりました。 募集終了。ありがとうございました。 「
 プラス思考は大切だ」と知っ&amp;hellip\;
CATEGORIES:最強BMP
URL;VALUE=URI:https://posiposibrain.com/mc-events/%e6%ba%80%e5%93%a1%ef%bc%
 89%e5%8b%9f%e9%9b%86%e7%b5%82%e4%ba%86%e3%80%8c%e5%bf%83%e3%82%92%e5%bc%b7
 %e3%81%8f%e3%81%99%e3%82%8b%e3%81%9f%e3%82%81%e3%81%ae%e8%84%b3%e3%81%ae%e
 7%bf%92%e6%85%a3%e3%80%8d/
METHOD:PUBLISH
END:VEVENT
END:VCALENDAR