BEGIN:VCALENDAR
VERSION:2.0
PRODID:spatie/icalendar-generator
DESCRIPTION:ポジティブライフ研究所のイベント
X-WR-CALDESC:ポジティブライフ研究所のイベント
REFRESH-INTERVAL;VALUE=DURATION:PT1440M
X-PUBLISHED-TTL:PT1440M
BEGIN:VTIMEZONE
TZID:Asia/Tokyo
BEGIN:STANDARD
DTSTART:20220902T000000Z
TZOFFSETFROM:+0900
TZOFFSETTO:+0900
END:STANDARD
END:VTIMEZONE
BEGIN:VTIMEZONE
TZID:UTC
BEGIN:STANDARD
DTSTART:20250724T180156Z
TZOFFSETFROM:+0000
TZOFFSETTO:+0000
END:STANDARD
END:VTIMEZONE
BEGIN:VEVENT
UID:14-12
DTSTAMP:20260420T180156Z
SUMMARY:SBT®３級メンタルコーチ資格取得講座 9:00-13:30
LOCATION:
ORGANIZER;CN=KANEKO MASAMI:MAILTO:scallop0801kao@yahoo.co.jp
DTSTART;TZID=Asia/Tokyo;VALUE=DATE:20230530
DTEND;TZID=Asia/Tokyo;VALUE=DATE:20230531
X-ALT-DESC;FMTTYPE=TEXT/HTML:↓詳細・お申込みはこちら https://c
 oubic.com/mentaltraining/708540/e&amp;hellip\;
CATEGORIES:SBT
URL;VALUE=URI:https://posiposibrain.com/mc-events/sbt%ef%bc%93%e7%b4%9a%e3%
 83%a1%e3%83%b3%e3%82%bf%e3%83%ab%e3%82%b3%e3%83%bc%e3%83%81%e8%b3%87%e6%a0
 %bc%e5%8f%96%e5%be%97%e8%ac%9b%e5%ba%a7-900-1330/
METHOD:PUBLISH
END:VEVENT
END:VCALENDAR