BEGIN:VCALENDAR
VERSION:2.0
PRODID:spatie/icalendar-generator
DESCRIPTION:ポジティブライフ研究所のイベント
X-WR-CALDESC:ポジティブライフ研究所のイベント
REFRESH-INTERVAL;VALUE=DURATION:PT1440M
X-PUBLISHED-TTL:PT1440M
BEGIN:VTIMEZONE
TZID:Asia/Tokyo
BEGIN:STANDARD
DTSTART:20220923T090000Z
TZOFFSETFROM:+0900
TZOFFSETTO:+0900
END:STANDARD
END:VTIMEZONE
BEGIN:VTIMEZONE
TZID:UTC
BEGIN:STANDARD
DTSTART:20250724T163044Z
TZOFFSETFROM:+0000
TZOFFSETTO:+0000
END:STANDARD
END:VTIMEZONE
BEGIN:VEVENT
UID:25-20
DTSTAMP:20260420T163044Z
SUMMARY:『SBT®スーパーブレイントレーニング　３級メン
 タルコーチ資格講座』
LOCATION:
ORGANIZER;CN=KANEKO MASAMI:MAILTO:scallop0801kao@yahoo.co.jp
DTSTART;TZID=Asia/Tokyo:20230620T090000
DTEND;TZID=Asia/Tokyo:20230620T130000
X-ALT-DESC;FMTTYPE=TEXT/HTML:定員3名 6月20日(火) 9:30-13:30 ３級メ
 ンタルコーチ資格取得講座 Zoom開催　 33\,000&amp;hellip\;
CATEGORIES:SBT
URL;VALUE=URI:https://posiposibrain.com/mc-events/%e3%80%8esbt%e3%82%b9%e3%
 83%bc%e3%83%91%e3%83%bc%e3%83%96%e3%83%ac%e3%82%a4%e3%83%b3%e3%83%88%e3%83
 %ac%e3%83%bc%e3%83%8b%e3%83%b3%e3%82%b0%e3%80%80%ef%bc%93%e7%b4%9a%e3%83%a
 1%e3%83%b3%e3%82%bf/
METHOD:PUBLISH
END:VEVENT
END:VCALENDAR