BEGIN:VCALENDAR
VERSION:2.0
PRODID:spatie/icalendar-generator
DESCRIPTION:ポジティブライフ研究所のイベント
X-WR-CALDESC:ポジティブライフ研究所のイベント
REFRESH-INTERVAL;VALUE=DURATION:PT1440M
X-PUBLISHED-TTL:PT1440M
BEGIN:VTIMEZONE
TZID:Asia/Tokyo
BEGIN:STANDARD
DTSTART:20221211T140000Z
TZOFFSETFROM:+0900
TZOFFSETTO:+0900
END:STANDARD
END:VTIMEZONE
BEGIN:VTIMEZONE
TZID:UTC
BEGIN:STANDARD
DTSTART:20250724T162750Z
TZOFFSETFROM:+0000
TZOFFSETTO:+0000
END:STANDARD
END:VTIMEZONE
BEGIN:VEVENT
UID:45-39
DTSTAMP:20260420T162750Z
SUMMARY:SBT®スーパーブレイントレーニング 3級メンタルコ
 ーチ資格講座 33\,000円（税込）
LOCATION:
ORGANIZER;CN=KANEKO MASAMI:MAILTO:scallop0801kao@yahoo.co.jp
DTSTART;TZID=Asia/Tokyo:20230907T140000
DTEND;TZID=Asia/Tokyo:20230907T183000
X-ALT-DESC;FMTTYPE=TEXT/HTML:9月7日（金曜日） 14:00-18:30(場合に
 より延長あり） 申込終了 外部サイトにてお申し込み及
 び決済を&amp;hellip\;
CATEGORIES:SBT
URL;VALUE=URI:https://posiposibrain.com/mc-events/sbt%e3%82%b9%e3%83%bc%e3%
 83%91%e3%83%bc%e3%83%96%e3%83%ac%e3%82%a4%e3%83%b3%e3%83%88%e3%83%ac%e3%83
 %bc%e3%83%8b%e3%83%b3%e3%82%b0-3%e7%b4%9a%e3%83%a1%e3%83%b3%e3%82%bf%e3%83
 %ab%e3%82%b3%e3%83%bc-4/
METHOD:PUBLISH
END:VEVENT
END:VCALENDAR