BEGIN:VCALENDAR
VERSION:2.0
PRODID:spatie/icalendar-generator
DESCRIPTION:ポジティブライフ研究所のイベント
X-WR-CALDESC:ポジティブライフ研究所のイベント
REFRESH-INTERVAL;VALUE=DURATION:PT1440M
X-PUBLISHED-TTL:PT1440M
BEGIN:VTIMEZONE
TZID:Asia/Tokyo
BEGIN:STANDARD
DTSTART:20221220T190000Z
TZOFFSETFROM:+0900
TZOFFSETTO:+0900
END:STANDARD
END:VTIMEZONE
BEGIN:VTIMEZONE
TZID:UTC
BEGIN:STANDARD
DTSTART:20250724T161323Z
TZOFFSETFROM:+0000
TZOFFSETTO:+0000
END:STANDARD
END:VTIMEZONE
BEGIN:VEVENT
UID:54-47
DTSTAMP:20260420T161323Z
SUMMARY:SBT®スーパーブレイントレーニング実践イメージ
 トレーニング（体験版）19：00-20：30
LOCATION:
ORGANIZER;CN=KANEKO MASAMI:MAILTO:scallop0801kao@yahoo.co.jp
DTSTART;TZID=Asia/Tokyo:20230916T190000
DTEND;TZID=Asia/Tokyo:20230916T203000
X-ALT-DESC;FMTTYPE=TEXT/HTML:Zoom開催！　SBT®スーパーブレイン
 トレーニング 実践イメージトレーニング（3級講座体験
 版） 3\,300円&amp;hellip\;
CATEGORIES:SBT
URL;VALUE=URI:https://posiposibrain.com/mc-events/sbt%e3%82%b9%e3%83%bc%e3%
 83%91%e3%83%bc%e3%83%96%e3%83%ac%e3%82%a4%e3%83%b3%e3%83%88%e3%83%ac%e3%83
 %bc%e3%83%8b%e3%83%b3%e3%82%b0%e5%ae%9f%e8%b7%b5%e3%82%a4%e3%83%a1%e3%83%b
 c%e3%82%b8%e3%83%88-11/
METHOD:PUBLISH
END:VEVENT
END:VCALENDAR