BEGIN:VCALENDAR
VERSION:2.0
PRODID:spatie/icalendar-generator
DESCRIPTION:ポジティブライフ研究所のイベント
X-WR-CALDESC:ポジティブライフ研究所のイベント
REFRESH-INTERVAL;VALUE=DURATION:PT1440M
X-PUBLISHED-TTL:PT1440M
BEGIN:VTIMEZONE
TZID:Asia/Tokyo
BEGIN:STANDARD
DTSTART:20220904T133000Z
TZOFFSETFROM:+0900
TZOFFSETTO:+0900
END:STANDARD
END:VTIMEZONE
BEGIN:VTIMEZONE
TZID:UTC
BEGIN:STANDARD
DTSTART:20250724T142429Z
TZOFFSETFROM:+0000
TZOFFSETTO:+0000
END:STANDARD
END:VTIMEZONE
BEGIN:VEVENT
UID:19-16
DTSTAMP:20260420T142429Z
SUMMARY:満員御礼）SBT®スーパーブレイントレーニング実
 践セミナー（体験版）13:30-15:00
LOCATION:
ORGANIZER;CN=KANEKO MASAMI:MAILTO:scallop0801kao@yahoo.co.jp
DTSTART;TZID=Asia/Tokyo:20230601T133000
DTEND;TZID=Asia/Tokyo:20230601T150000
X-ALT-DESC;FMTTYPE=TEXT/HTML:↓詳細・お申込みはこちら https://s
 bt-trial.hp.peraichi.com/ SBT®スーパ&amp;hellip\;
CATEGORIES:SBT
URL;VALUE=URI:https://posiposibrain.com/mc-events/%e6%ba%80%e5%93%a1%e5%be%
 a1%e7%a4%bc%ef%bc%89sbt%e3%82%b9%e3%83%bc%e3%83%91%e3%83%bc%e3%83%96%e3%83
 %ac%e3%82%a4%e3%83%b3%e3%83%88%e3%83%ac%e3%83%bc%e3%83%8b%e3%83%b3%e3%82%b
 0%e5%ae%9f%e8%b7%b5-2/
METHOD:PUBLISH
END:VEVENT
END:VCALENDAR