BEGIN:VCALENDAR
VERSION:2.0
PRODID:spatie/icalendar-generator
DESCRIPTION:ポジティブライフ研究所のイベント
X-WR-CALDESC:ポジティブライフ研究所のイベント
REFRESH-INTERVAL;VALUE=DURATION:PT1440M
X-PUBLISHED-TTL:PT1440M
BEGIN:VTIMEZONE
TZID:Asia/Tokyo
BEGIN:STANDARD
DTSTART:20220927T000000Z
TZOFFSETFROM:+0900
TZOFFSETTO:+0900
END:STANDARD
END:VTIMEZONE
BEGIN:VTIMEZONE
TZID:UTC
BEGIN:STANDARD
DTSTART:20250724T162640Z
TZOFFSETFROM:+0000
TZOFFSETTO:+0000
END:STANDARD
END:VTIMEZONE
BEGIN:VEVENT
UID:26-19
DTSTAMP:20260420T162640Z
SUMMARY:「学校では教えてくれない『本当のプラス思考の
 作り方』」10:00-11:30
LOCATION:
ORGANIZER;CN=KANEKO MASAMI:MAILTO:scallop0801kao@yahoo.co.jp
DTSTART;TZID=Asia/Tokyo;VALUE=DATE:20230624
DTEND;TZID=Asia/Tokyo;VALUE=DATE:20230625
X-ALT-DESC;FMTTYPE=TEXT/HTML:6月24日（土）10:0-11:30 10代～30代の
 死亡原因の1位は「自殺」 G7の中で自殺が死亡原因なの
 は&amp;hellip\;
CATEGORIES:SBT
URL;VALUE=URI:https://posiposibrain.com/mc-events/%e3%80%8c%e5%ad%a6%e6%a0%
 a1%e3%81%a7%e3%81%af%e6%95%99%e3%81%88%e3%81%a6%e3%81%8f%e3%82%8c%e3%81%aa
 %e3%81%84%e3%80%8e%e6%9c%ac%e5%bd%93%e3%81%ae%e3%83%97%e3%83%a9%e3%82%b9%e
 6%80%9d%e8%80%83%e3%81%ae/
METHOD:PUBLISH
END:VEVENT
END:VCALENDAR