BEGIN:VCALENDAR
VERSION:2.0
PRODID:spatie/icalendar-generator
DESCRIPTION:ポジティブライフ研究所のイベント
X-WR-CALDESC:ポジティブライフ研究所のイベント
REFRESH-INTERVAL;VALUE=DURATION:PT1440M
X-PUBLISHED-TTL:PT1440M
BEGIN:VTIMEZONE
TZID:Asia/Tokyo
BEGIN:STANDARD
DTSTART:20220924T200000Z
TZOFFSETFROM:+0900
TZOFFSETTO:+0900
END:STANDARD
END:VTIMEZONE
BEGIN:VTIMEZONE
TZID:UTC
BEGIN:STANDARD
DTSTART:20250724T122638Z
TZOFFSETFROM:+0000
TZOFFSETTO:+0000
END:STANDARD
END:VTIMEZONE
BEGIN:VEVENT
UID:28-22
DTSTAMP:20260420T122638Z
SUMMARY:SBT®スーパーブレイントレーニング実践セミナー
 （体験版）10:00-11:30
LOCATION:
ORGANIZER;CN=KANEKO MASAMI:MAILTO:scallop0801kao@yahoo.co.jp
DTSTART;TZID=Asia/Tokyo:20230621T200000
DTEND;TZID=Asia/Tokyo:20230621T213000
X-ALT-DESC;FMTTYPE=TEXT/HTML:申し込みURL https://trialversion.hp.peraic
 hi.com/ SBTでは「夢」や&amp;hellip\;
CATEGORIES:SBT
URL;VALUE=URI:https://posiposibrain.com/mc-events/sbt%e3%82%b9%e3%83%bc%e3%
 83%91%e3%83%bc%e3%83%96%e3%83%ac%e3%82%a4%e3%83%b3%e3%83%88%e3%83%ac%e3%83
 %bc%e3%83%8b%e3%83%b3%e3%82%b0%e5%ae%9f%e8%b7%b5%e3%82%bb%e3%83%9f%e3%83%8
 a%e3%83%bc%ef%bc%88-3/
METHOD:PUBLISH
END:VEVENT
END:VCALENDAR