BEGIN:VCALENDAR
VERSION:2.0
PRODID:spatie/icalendar-generator
DESCRIPTION:ポジティブライフ研究所のイベント
X-WR-CALDESC:ポジティブライフ研究所のイベント
REFRESH-INTERVAL;VALUE=DURATION:PT1440M
X-PUBLISHED-TTL:PT1440M
BEGIN:VTIMEZONE
TZID:Asia/Tokyo
BEGIN:STANDARD
DTSTART:20221207T113000Z
TZOFFSETFROM:+0900
TZOFFSETTO:+0900
END:STANDARD
END:VTIMEZONE
BEGIN:VTIMEZONE
TZID:UTC
BEGIN:STANDARD
DTSTART:20250724T175834Z
TZOFFSETFROM:+0000
TZOFFSETTO:+0000
END:STANDARD
END:VTIMEZONE
BEGIN:VEVENT
UID:38-32
DTSTAMP:20260420T175834Z
SUMMARY:大阪開催！脳腸相関コラボ「脳が喜ぶ人生を変え
 るプラス思考の作り方」×「脳が喜ぶ発酵ごはん」
LOCATION:諏訪ノ森
ORGANIZER;CN=KANEKO MASAMI:MAILTO:scallop0801kao@yahoo.co.jp
DTSTART;TZID=Asia/Tokyo:20230903T113000
DTEND;TZID=Asia/Tokyo:20230903T133000
X-ALT-DESC;FMTTYPE=TEXT/HTML:コラボセミナー 「脳が喜ぶ人生を
 変えるプラス思考の作り方」×「脳が喜ぶ発酵ごはん」
  9月3日（日）11:30-&amp;hellip\;
CATEGORIES:最強BMP
URL;VALUE=URI:https://posiposibrain.com/mc-events/%e5%a4%a7%e9%98%aa%e9%96%
 8b%e5%82%ac%ef%bc%81%e8%84%b3%e8%85%b8%e7%9b%b8%e9%96%a2%e3%82%b3%e3%83%a9
 %e3%83%9c%e3%80%8c%e8%84%b3%e3%81%8c%e5%96%9c%e3%81%b6%e4%ba%ba%e7%94%9f%e
 3%82%92%e5%a4%89%e3%81%88/
METHOD:PUBLISH
END:VEVENT
END:VCALENDAR