BEGIN:VCALENDAR
VERSION:2.0
PRODID:spatie/icalendar-generator
DESCRIPTION:ポジティブライフ研究所のイベント
X-WR-CALDESC:ポジティブライフ研究所のイベント
REFRESH-INTERVAL;VALUE=DURATION:PT1440M
X-PUBLISHED-TTL:PT1440M
BEGIN:VTIMEZONE
TZID:Asia/Tokyo
BEGIN:STANDARD
DTSTART:20221121T210000Z
TZOFFSETFROM:+0900
TZOFFSETTO:+0900
END:STANDARD
END:VTIMEZONE
BEGIN:VTIMEZONE
TZID:UTC
BEGIN:STANDARD
DTSTART:20250724T212504Z
TZOFFSETFROM:+0000
TZOFFSETTO:+0000
END:STANDARD
END:VTIMEZONE
BEGIN:VEVENT
UID:39-33
DTSTAMP:20260420T212504Z
SUMMARY:第34回『感動ノート実践会』～環境肯定感トレー
 ニング～
LOCATION:
ORGANIZER;CN=KANEKO MASAMI:MAILTO:scallop0801kao@yahoo.co.jp
DTSTART;TZID=Asia/Tokyo:20230818T210000
DTEND;TZID=Asia/Tokyo:20230818T231000
X-ALT-DESC;FMTTYPE=TEXT/HTML:第34回『感動ノート実践会』 *リピ
 ーター様のみ対象 映画『SAND LAND』レイトショー 今回は
 大人専用「&amp;hellip\;
CATEGORIES:SBT
URL;VALUE=URI:https://posiposibrain.com/mc-events/%e7%ac%ac34%e5%9b%9e%e3%8
 0%8e%e6%84%9f%e5%8b%95%e3%83%8e%e3%83%bc%e3%83%88%e5%ae%9f%e8%b7%b5%e4%bc%
 9a%e3%80%8f%ef%bd%9e%e7%92%b0%e5%a2%83%e8%82%af%e5%ae%9a%e6%84%9f%e3%83%88
 %e3%83%ac%e3%83%bc%e3%83%8b/
METHOD:PUBLISH
END:VEVENT
END:VCALENDAR