BEGIN:VCALENDAR
VERSION:2.0
PRODID:spatie/icalendar-generator
DESCRIPTION:ポジティブライフ研究所のイベント
X-WR-CALDESC:ポジティブライフ研究所のイベント
REFRESH-INTERVAL;VALUE=DURATION:PT1440M
X-PUBLISHED-TTL:PT1440M
BEGIN:VTIMEZONE
TZID:Asia/Tokyo
BEGIN:STANDARD
DTSTART:20220325T190000Z
TZOFFSETFROM:+0900
TZOFFSETTO:+0900
END:STANDARD
END:VTIMEZONE
BEGIN:VTIMEZONE
TZID:UTC
BEGIN:STANDARD
DTSTART:20250724T124202Z
TZOFFSETFROM:+0000
TZOFFSETTO:+0000
END:STANDARD
END:VTIMEZONE
BEGIN:VEVENT
UID:5-5
DTSTAMP:20260420T124202Z
SUMMARY:体験セミナー
LOCATION:
ORGANIZER;CN=KANEKO MASAMI:MAILTO:scallop0801kao@yahoo.co.jp
DTSTART;TZID=Asia/Tokyo:20221220T190000
DTEND;TZID=Asia/Tokyo:20221220T230000
X-ALT-DESC;FMTTYPE=TEXT/HTML:●●●の体験セミナーを開催しま
 す。 ●●が●●になれるセミナーです。 ご予約は下記
 URLから http://w&amp;hellip\;
CATEGORIES:SBT
URL;VALUE=URI:https://posiposibrain.com/mc-events/%e4%bd%93%e9%a8%93%e3%82%
 bb%e3%83%9f%e3%83%8a%e3%83%bc-2/
METHOD:PUBLISH
END:VEVENT
END:VCALENDAR