BEGIN:VCALENDAR
VERSION:2.0
PRODID:spatie/icalendar-generator
DESCRIPTION:ポジティブライフ研究所のイベント
X-WR-CALDESC:ポジティブライフ研究所のイベント
REFRESH-INTERVAL;VALUE=DURATION:PT1440M
X-PUBLISHED-TTL:PT1440M
BEGIN:VTIMEZONE
TZID:Asia/Tokyo
BEGIN:STANDARD
DTSTART:20230328T080000Z
TZOFFSETFROM:+0900
TZOFFSETTO:+0900
END:STANDARD
END:VTIMEZONE
BEGIN:VTIMEZONE
TZID:UTC
BEGIN:STANDARD
DTSTART:20250724T194107Z
TZOFFSETFROM:+0000
TZOFFSETTO:+0000
END:STANDARD
END:VTIMEZONE
BEGIN:VEVENT
UID:56-48
DTSTAMP:20260420T194107Z
SUMMARY:SBT®スーパーブレイントレーニング資格講座 3級 08
 :00-13:30
LOCATION:
ORGANIZER;CN=KANEKO MASAMI:MAILTO:scallop0801kao@yahoo.co.jp
DTSTART;TZID=Asia/Tokyo:20231223T080000
DTEND;TZID=Asia/Tokyo:20231223T133000
X-ALT-DESC;FMTTYPE=TEXT/HTML:SBT®スーパーブレイントレーニン
 グ資格講座 3級 https://coubic.com/mentaltrai&amp;hellip\;
CATEGORIES:SBT
URL;VALUE=URI:https://posiposibrain.com/mc-events/sbt%e3%82%b9%e3%83%bc%e3%
 83%91%e3%83%bc%e3%83%96%e3%83%ac%e3%82%a4%e3%83%b3%e3%83%88%e3%83%ac%e3%83
 %bc%e3%83%8b%e3%83%b3%e3%82%b0%e8%b3%87%e6%a0%bc%e8%ac%9b%e5%ba%a7-3%e7%b4
 %9a-0800-1330/
METHOD:PUBLISH
END:VEVENT
END:VCALENDAR