BEGIN:VCALENDAR
VERSION:2.0
PRODID:spatie/icalendar-generator
DESCRIPTION:ポジティブライフ研究所のイベント
X-WR-CALDESC:ポジティブライフ研究所のイベント
REFRESH-INTERVAL;VALUE=DURATION:PT1440M
X-PUBLISHED-TTL:PT1440M
BEGIN:VTIMEZONE
TZID:Asia/Tokyo
BEGIN:STANDARD
DTSTART:20230501T000000Z
TZOFFSETFROM:+0900
TZOFFSETTO:+0900
END:STANDARD
END:VTIMEZONE
BEGIN:VTIMEZONE
TZID:UTC
BEGIN:STANDARD
DTSTART:20250724T215717Z
TZOFFSETFROM:+0000
TZOFFSETTO:+0000
END:STANDARD
END:VTIMEZONE
BEGIN:VEVENT
UID:58-49
DTSTAMP:20260420T215717Z
SUMMARY:学校では教えてくれない～人生を変える本当のプ
 ラス思考～
LOCATION:
ORGANIZER;CN=KANEKO MASAMI:MAILTO:scallop0801kao@yahoo.co.jp
DTSTART;TZID=Asia/Tokyo;VALUE=DATE:20240126
DTEND;TZID=Asia/Tokyo;VALUE=DATE:20240127
X-ALT-DESC;FMTTYPE=TEXT/HTML:
CATEGORIES:最強BMP
URL;VALUE=URI:https://posiposibrain.com/mc-events/%e5%ad%a6%e6%a0%a1%e3%81%
 a7%e3%81%af%e6%95%99%e3%81%88%e3%81%a6%e3%81%8f%e3%82%8c%e3%81%aa%e3%81%84
 %ef%bd%9e%e4%ba%ba%e7%94%9f%e3%82%92%e5%a4%89%e3%81%88%e3%82%8b%e6%9c%ac%e
 5%bd%93%e3%81%ae%e3%83%97/
METHOD:PUBLISH
END:VEVENT
END:VCALENDAR