BEGIN:VCALENDAR
VERSION:2.0
PRODID:spatie/icalendar-generator
DESCRIPTION:ポジティブライフ研究所のイベント
X-WR-CALDESC:ポジティブライフ研究所のイベント
REFRESH-INTERVAL;VALUE=DURATION:PT1440M
X-PUBLISHED-TTL:PT1440M
BEGIN:VTIMEZONE
TZID:Asia/Tokyo
BEGIN:STANDARD
DTSTART:20220306T190000Z
TZOFFSETFROM:+0900
TZOFFSETTO:+0900
END:STANDARD
END:VTIMEZONE
BEGIN:VTIMEZONE
TZID:UTC
BEGIN:STANDARD
DTSTART:20250724T142313Z
TZOFFSETFROM:+0000
TZOFFSETTO:+0000
END:STANDARD
END:VTIMEZONE
BEGIN:VEVENT
UID:6-6
DTSTAMP:20260420T142313Z
SUMMARY:個別面談
LOCATION:
ORGANIZER;CN=KANEKO MASAMI:MAILTO:scallop0801kao@yahoo.co.jp
DTSTART;TZID=Asia/Tokyo:20221201T190000
DTEND;TZID=Asia/Tokyo:20221201T200000
X-ALT-DESC;FMTTYPE=TEXT/HTML:個別面談のお申し込みはコチラか
 ら http://www.yahoo.co.jp/
CATEGORIES:SBT
URL;VALUE=URI:https://posiposibrain.com/mc-events/%e5%80%8b%e5%88%a5%e9%9d%
 a2%e8%ab%87-3/
METHOD:PUBLISH
END:VEVENT
END:VCALENDAR