BEGIN:VCALENDAR
VERSION:2.0
PRODID:spatie/icalendar-generator
DESCRIPTION:ポジティブライフ研究所のイベント
X-WR-CALDESC:ポジティブライフ研究所のイベント
REFRESH-INTERVAL;VALUE=DURATION:PT1440M
X-PUBLISHED-TTL:PT1440M
BEGIN:VTIMEZONE
TZID:Asia/Tokyo
BEGIN:STANDARD
DTSTART:20220812T000000Z
TZOFFSETFROM:+0900
TZOFFSETTO:+0900
END:STANDARD
END:VTIMEZONE
BEGIN:VTIMEZONE
TZID:UTC
BEGIN:STANDARD
DTSTART:20250724T195353Z
TZOFFSETFROM:+0000
TZOFFSETTO:+0000
END:STANDARD
END:VTIMEZONE
BEGIN:VEVENT
UID:9-9
DTSTAMP:20260420T195353Z
SUMMARY:第18回最強BMP月次グルコン（受講生のみ）
LOCATION:
ORGANIZER;CN=KANEKO MASAMI:MAILTO:scallop0801kao@yahoo.co.jp
DTSTART;TZID=Asia/Tokyo;VALUE=DATE:20230509
DTEND;TZID=Asia/Tokyo;VALUE=DATE:20230510
X-ALT-DESC;FMTTYPE=TEXT/HTML:最強BMPグルコン（受講生のみ） Zoo
 m-URLを登録メールに送ります。 時間がきましたら、入
 室してください&amp;hellip\;
CATEGORIES:最強BMP
URL;VALUE=URI:https://posiposibrain.com/mc-events/%e7%ac%ac18%e5%9b%9e%e6%9
 c%80%e5%bc%b7bmp%e6%9c%88%e6%ac%a1%e3%82%b0%e3%83%ab%e3%82%b3%e3%83%b3%ef%
 bc%88%e5%8f%97%e8%ac%9b%e7%94%9f%e3%81%ae%e3%81%bf%ef%bc%89/
METHOD:PUBLISH
END:VEVENT
END:VCALENDAR